BEGIN:VCALENDAR
VERSION:2.0
PRODID:-//hacksw/handcal//NONSGML v1.0//EN
BEGIN:VEVENT
SUMMARY:Championnat de Ligue Juniors M&F
UID:1e53d67b-ce0f-4d5f-8bad-dc4ab60d79ac
DTSTART:20260314T230000Z
DTEND:20260315T230000Z
LOCATION:Localisation route de coray  Rosporden
CATEGORIES:Sportif
STATUS:
DESCRIPTION:<p>Horaires de pesees</p>
 
 <p>Juniors Masculins
 :<br>
 09h00 a 09h45 :  -55 kg, -60kg, –66 kg et -73kg (3 ateliers
 de pesees).<br>
 11h15 a 12h00 :  -81 kg, -90kg, -100kg et +100kg (2
 ateliers de pesees).<br>
  </p>
 
 <p>Juniors Feminins :<br>
 12h30 a
 13h15:  -44 kg, -48 kg et -52 kg (1 atelier de pesees).<br>
 13h15 a
 14h00: -57kg, -63 kg, -70kg, -78kg et +78kg(1 atelier de
 pesees).<br>
  </p>
 
 <p>Tirage au sort : de 09 h 45 a 10 h 15
 COMMISSION SPORTIVE.<br>
 Debut previsionnel : 10 h 30 Fin
 previsionnelle : 17 h 30.</p>
URL;VALUE=URI:https://www.judo-club-concarnois.net/evenements/2026/03/15/championnat-de-ligue-juniors-mf-2422669
END:VEVENT
END:VCALENDAR
